BEGIN:VCALENDAR
VERSION:2.0
PRODID:-//Little League World Series Umpire Alumni Association - ECPv6.15.20//NONSGML v1.0//EN
CALSCALE:GREGORIAN
METHOD:PUBLISH
X-ORIGINAL-URL:https://llwsuaa.org
X-WR-CALDESC:Events for Little League World Series Umpire Alumni Association
REFRESH-INTERVAL;VALUE=DURATION:PT1H
X-Robots-Tag:noindex
X-PUBLISHED-TTL:PT1H
BEGIN:VTIMEZONE
TZID:UTC
BEGIN:STANDARD
TZOFFSETFROM:+0000
TZOFFSETTO:+0000
TZNAME:UTC
DTSTART:20190101T000000
END:STANDARD
END:VTIMEZONE
BEGIN:VEVENT
DTSTART;VALUE=DATE:20200820
DTEND;VALUE=DATE:20200831
DTSTAMP:20260426T002509
CREATED:20200208T045434Z
LAST-MODIFIED:20200208T045556Z
UID:596-1597881600-1598831999@llwsuaa.org
SUMMARY:2020 Little League Baseball World Series
DESCRIPTION:
URL:https://llwsuaa.org/event/2020-little-league-world-series/
LOCATION:Little League International\, 539 US-15\, South WIlliamsport\, PA\, United States
CATEGORIES:World Series Tournament
END:VEVENT
END:VCALENDAR