BEGIN:VCALENDAR
VERSION:2.0
PRODID:-//Little League World Series Umpire Alumni Association - ECPv6.15.20//NONSGML v1.0//EN
CALSCALE:GREGORIAN
METHOD:PUBLISH
X-ORIGINAL-URL:https://llwsuaa.org
X-WR-CALDESC:Events for Little League World Series Umpire Alumni Association
REFRESH-INTERVAL;VALUE=DURATION:PT1H
X-Robots-Tag:noindex
X-PUBLISHED-TTL:PT1H
BEGIN:VTIMEZONE
TZID:UTC
BEGIN:STANDARD
TZOFFSETFROM:+0000
TZOFFSETTO:+0000
TZNAME:UTC
DTSTART:20190101T000000
END:STANDARD
END:VTIMEZONE
BEGIN:VEVENT
DTSTART;VALUE=DATE:20200812
DTEND;VALUE=DATE:20200820
DTSTAMP:20260426T002407
CREATED:20200208T045714Z
LAST-MODIFIED:20200208T045714Z
UID:599-1597190400-1597881599@llwsuaa.org
SUMMARY:2020 Little League Softball World Series
DESCRIPTION:Location TBA
URL:https://llwsuaa.org/event/2020-little-league-softball-world-series/
LOCATION:NC
CATEGORIES:World Series Tournament
END:VEVENT
BEGIN:VEVENT
DTSTART;VALUE=DATE:20200816
DTEND;VALUE=DATE:20200824
DTSTAMP:20260426T002407
CREATED:20200208T050045Z
LAST-MODIFIED:20200208T050114Z
UID:606-1597536000-1598227199@llwsuaa.org
SUMMARY:2020 Junior League Baseball World Series
DESCRIPTION:
URL:https://llwsuaa.org/event/junior-league-baseball-world-series-copy/
LOCATION:Heritage Park\, 12111 Pardee Road\, Taylor\, MI\, United States
CATEGORIES:World Series Tournament
END:VEVENT
END:VCALENDAR