BEGIN:VCALENDAR
VERSION:2.0
PRODID:-//Little League World Series Umpire Alumni Association - ECPv6.15.20//NONSGML v1.0//EN
CALSCALE:GREGORIAN
METHOD:PUBLISH
X-WR-CALNAME:Little League World Series Umpire Alumni Association
X-ORIGINAL-URL:https://llwsuaa.org
X-WR-CALDESC:Events for Little League World Series Umpire Alumni Association
REFRESH-INTERVAL;VALUE=DURATION:PT1H
X-Robots-Tag:noindex
X-PUBLISHED-TTL:PT1H
BEGIN:VTIMEZONE
TZID:UTC
BEGIN:STANDARD
TZOFFSETFROM:+0000
TZOFFSETTO:+0000
TZNAME:UTC
DTSTART:20190101T000000
END:STANDARD
END:VTIMEZONE
BEGIN:VEVENT
DTSTART;VALUE=DATE:20200801
DTEND;VALUE=DATE:20200809
DTSTAMP:20260426T002353
CREATED:20200208T050244Z
LAST-MODIFIED:20200208T050608Z
UID:610-1596240000-1596931199@llwsuaa.org
SUMMARY:2020 Senior League Baseball World Series
DESCRIPTION:
URL:https://llwsuaa.org/event/2020-senior-league-baseball-world-series/
LOCATION:Senior League Baseball World Series\, 111 Walkers Way\, Easley\, SC\, United States
CATEGORIES:World Series Tournament
END:VEVENT
BEGIN:VEVENT
DTSTART;VALUE=DATE:20200802
DTEND;VALUE=DATE:20200809
DTSTAMP:20260426T002353
CREATED:20200208T050132Z
LAST-MODIFIED:20200208T050220Z
UID:608-1596326400-1596931199@llwsuaa.org
SUMMARY:2020 Junior League Softball World Series
DESCRIPTION:
URL:https://llwsuaa.org/event/2020-junior-league-softball-world-series/
LOCATION:Everest Park\, 500 8th St S\, Kirkland\, WA\, United States
CATEGORIES:World Series Tournament
END:VEVENT
BEGIN:VEVENT
DTSTART;VALUE=DATE:20200803
DTEND;VALUE=DATE:20200810
DTSTAMP:20260426T002353
CREATED:20200208T050357Z
LAST-MODIFIED:20200208T050439Z
UID:614-1596412800-1597017599@llwsuaa.org
SUMMARY:2020 Senior League Softball World Series
DESCRIPTION:
URL:https://llwsuaa.org/event/2020-senior-league-softball-world-series/
LOCATION:Lower Sussexx Little League\, 34476 Pyle Center Rd\, Roxanna\, DE\, United States
CATEGORIES:World Series Tournament
END:VEVENT
END:VCALENDAR